BEGIN:VCALENDAR
VERSION:2.0
PRODID:-//eventon.com NONSGML v1.0//EN
CALSCALE:GREGORIAN
METHOD:PUBLISH
BEGIN:VEVENT
UID:69ecd745c9597
DTSTAMP:20260425T150125Z
DTSTART:20260425T190000Z
DTEND:20260425T210000Z
LOCATION:
SUMMARY:Rainbow Spaces D&D
DESCRIPTION:Join us every 4th Saturday of the Month for D&D at Off the Shel
 f Games at Parkway Plaza from Noon to 2 pm RSVP here: Rainbow Spaces\nhttps
 ://offtheshelfgames.com/events/rainbow-spaces-dd
URL:https://offtheshelfgames.com/events/rainbow-spaces-dd
END:VEVENT
END:VCALENDAR